BEGIN:VCALENDAR
BEGIN:VEVENT
SUMMARY:Funeral notice for MOORES\, John Robert
DTSTART:20260420T000000
DTEND:20260421T000000
DTSTAMP:20260424T142741Z
UID:6353311
DESCRIPTION:For the Funeral time and location details\, please view the no
 tice on the My Tributes site. (https://www.corowafreepress.com.au/tributes
 /notice/funeral-notices/moores-john-roberts/6353311/)
END:VEVENT
END:VCALENDAR
