BEGIN:VCALENDAR
BEGIN:VEVENT
SUMMARY:Funeral notice for NORRIS (NEE MOORE)\, Marie Jean
DTSTART:20260420T000000
DTEND:20260421T000000
DTSTAMP:20260422T003058Z
UID:6353915
DESCRIPTION:For the Funeral time and location details\, please view the no
 tice on the My Tributes site. (https://www.corowafreepress.com.au/tributes
 /notice/funeral-notices/norris-nee-moore-marie-jean/6353915/)
END:VEVENT
END:VCALENDAR
