BEGIN:VCALENDAR
BEGIN:VEVENT
SUMMARY:Funeral notice for GLASSON\, Kevin John
DTSTART:20260416T000000
DTEND:20260417T000000
DTSTAMP:20260422T150822Z
UID:6353964
DESCRIPTION:For the Funeral time and location details\, please view the no
 tice on the My Tributes site. (https://www.corowafreepress.com.au/tributes
 /notice/funeral-notices/glasson-kevin-john/6353964/)
END:VEVENT
END:VCALENDAR
