BEGIN:VCALENDAR
BEGIN:VEVENT
SUMMARY:Funeral notice for MUNRO\, Heather Isabelle
DTSTART:20260421T000000
DTEND:20260422T000000
DTSTAMP:20260420T040904Z
UID:6353969
DESCRIPTION:For the Funeral time and location details\, please view the no
 tice on the My Tributes site. (https://www.corowafreepress.com.au/tributes
 /notice/funeral-notices/munro-heather-isabelle/6353969/)
END:VEVENT
END:VCALENDAR
