BEGIN:VCALENDAR
BEGIN:VEVENT
SUMMARY:Funeral notice for INVERARDI\, Adelaide Gelsomina
DTSTART:20260420T000000
DTEND:20260421T000000
DTSTAMP:20260420T010047Z
UID:6354043
DESCRIPTION:For the Funeral time and location details\, please view the no
 tice on the My Tributes site. (https://www.corowafreepress.com.au/tributes
 /notice/funeral-notices/inverardi-adelaide-gelsomina/6354043/)
END:VEVENT
END:VCALENDAR
