BEGIN:VCALENDAR
BEGIN:VEVENT
SUMMARY:Funeral notice for ANDERSON\, Lawrence John
DTSTART:20260421T000000
DTEND:20260422T000000
DTSTAMP:20260421T154708Z
UID:6354135
DESCRIPTION:For the Funeral time and location details\, please view the no
 tice on the My Tributes site. (https://www.corowafreepress.com.au/tributes
 /notice/funeral-notices/anderson-lawrence-john/6354135/)
END:VEVENT
END:VCALENDAR
