BEGIN:VCALENDAR
BEGIN:VEVENT
SUMMARY:Funeral notice for RICKETTS\, Trevor Anthony
DTSTART:20260423T000000
DTEND:20260424T000000
DTSTAMP:20260425T131721Z
UID:6354154
DESCRIPTION:For the Funeral time and location details\, please view the no
 tice on the My Tributes site. (https://www.corowafreepress.com.au/tributes
 /notice/funeral-notices/ricketts-trevor-anthony/6354154/)
END:VEVENT
END:VCALENDAR
