BEGIN:VCALENDAR
BEGIN:VEVENT
SUMMARY:Funeral notice for DE BOER\, John
DTSTART:20260424T000000
DTEND:20260425T000000
DTSTAMP:20260421T130750Z
UID:6354203
DESCRIPTION:For the Funeral time and location details\, please view the no
 tice on the My Tributes site. (https://www.corowafreepress.com.au/tributes
 /notice/funeral-notices/de-boer-john/6354203/)
END:VEVENT
END:VCALENDAR
