BEGIN:VCALENDAR
BEGIN:VEVENT
SUMMARY:Funeral notice for FLEMMING\, Anne Maree
DTSTART:20260423T000000
DTEND:20260424T000000
DTSTAMP:20260420T011227Z
UID:6354221
DESCRIPTION:For the Funeral time and location details\, please view the no
 tice on the My Tributes site. (https://www.corowafreepress.com.au/tributes
 /notice/funeral-notices/flemming-anne-maree/6354221/)
END:VEVENT
END:VCALENDAR
