BEGIN:VCALENDAR
BEGIN:VEVENT
SUMMARY:Funeral notice for WILLIAMS\, Theresa (Terry)
DTSTART:20260421T000000
DTEND:20260422T000000
DTSTAMP:20260420T191045Z
UID:6354388
DESCRIPTION:For the Funeral time and location details\, please view the no
 tice on the My Tributes site. (https://www.corowafreepress.com.au/tributes
 /notice/funeral-notices/williams-theresa-terry/6354388/)
END:VEVENT
END:VCALENDAR
