BEGIN:VCALENDAR
BEGIN:VEVENT
SUMMARY:Funeral notice for ERWIN\, Michael James "Mick"
DTSTART:20260423T000000
DTEND:20260424T000000
DTSTAMP:20260421T015043Z
UID:6354441
DESCRIPTION:For the Funeral time and location details\, please view the no
 tice on the My Tributes site. (https://www.corowafreepress.com.au/tributes
 /notice/funeral-notices/erwin-michael-james-mick/6354441/)
END:VEVENT
END:VCALENDAR
