BEGIN:VCALENDAR
BEGIN:VEVENT
SUMMARY:Funeral notice for SPARGO\, Irene Patricia (Patsy)
DTSTART:20260421T000000
DTEND:20260422T000000
DTSTAMP:20260423T100145Z
UID:6354480
DESCRIPTION:For the Funeral time and location details\, please view the no
 tice on the My Tributes site. (https://www.corowafreepress.com.au/tributes
 /notice/funeral-notices/spargo-irene-patricia/6354480/)
END:VEVENT
END:VCALENDAR
