BEGIN:VCALENDAR
BEGIN:VEVENT
SUMMARY:Funeral notice for SUDRABS\, Zaiga
DTSTART:20260422T000000
DTEND:20260423T000000
DTSTAMP:20260423T162615Z
UID:6354517
DESCRIPTION:For the Funeral time and location details\, please view the no
 tice on the My Tributes site. (https://www.corowafreepress.com.au/tributes
 /notice/funeral-notices/sudrabs-zaiga/6354517/)
END:VEVENT
END:VCALENDAR
