BEGIN:VCALENDAR
BEGIN:VEVENT
SUMMARY:Funeral notice for BALANDA\, Robert John "ROB"
DTSTART:20260429T000000
DTEND:20260430T000000
DTSTAMP:20260426T132446Z
UID:6354618
DESCRIPTION:For the Funeral time and location details\, please view the no
 tice on the My Tributes site. (https://www.corowafreepress.com.au/tributes
 /notice/funeral-notices/balanda-robert-john-rob/6354618/)
END:VEVENT
END:VCALENDAR
