BEGIN:VCALENDAR
BEGIN:VEVENT
SUMMARY:Funeral notice for SOWTER\, Frances Grace
DTSTART:20260429T000000
DTEND:20260430T000000
DTSTAMP:20260423T140005Z
UID:6354634
DESCRIPTION:For the Funeral time and location details\, please view the no
 tice on the My Tributes site. (https://www.corowafreepress.com.au/tributes
 /notice/funeral-notices/sowter-frances-grace/6354634/)
END:VEVENT
END:VCALENDAR
