BEGIN:VCALENDAR
BEGIN:VEVENT
SUMMARY:Funeral notice for BISHOP (RANKIN)\, Julie-Ann
DTSTART:20260424T000000
DTEND:20260425T000000
DTSTAMP:20260422T040233Z
UID:6354721
DESCRIPTION:For the Funeral time and location details\, please view the no
 tice on the My Tributes site. (https://www.corowafreepress.com.au/tributes
 /notice/funeral-notices/bishop-rankin-julie/6354721/)
END:VEVENT
END:VCALENDAR
