BEGIN:VCALENDAR
BEGIN:VEVENT
SUMMARY:Funeral notice for SPIRANOVIC\, Veronika
DTSTART:20260423T000000
DTEND:20260424T000000
DTSTAMP:20260424T021320Z
UID:6354743
DESCRIPTION:For the Funeral time and location details\, please view the no
 tice on the My Tributes site. (https://www.corowafreepress.com.au/tributes
 /notice/funeral-notices/spiranovic-veronika/6354743/)
END:VEVENT
END:VCALENDAR
