BEGIN:VCALENDAR
BEGIN:VEVENT
SUMMARY:Funeral notice for O'BRIEN\, Patricia
DTSTART:20260421T000000
DTEND:20260422T000000
DTSTAMP:20260423T064120Z
UID:6354744
DESCRIPTION:For the Funeral time and location details\, please view the no
 tice on the My Tributes site. (https://www.corowafreepress.com.au/tributes
 /notice/funeral-notices/obrien-patricia/6354744/)
END:VEVENT
END:VCALENDAR
