BEGIN:VCALENDAR
BEGIN:VEVENT
SUMMARY:Funeral notice for ROGERSON\, Kenneth "John"
DTSTART:20260424T000000
DTEND:20260425T000000
DTSTAMP:20260422T224152Z
UID:6354758
DESCRIPTION:For the Funeral time and location details\, please view the no
 tice on the My Tributes site. (https://www.corowafreepress.com.au/tributes
 /notice/funeral-notices/rogerson-kenneth-john/6354758/)
END:VEVENT
END:VCALENDAR
