BEGIN:VCALENDAR
BEGIN:VEVENT
SUMMARY:Funeral notice for PYNE\, Richard John Percival (Percy)
DTSTART:20260424T000000
DTEND:20260425T000000
DTSTAMP:20260422T091025Z
UID:6354771
DESCRIPTION:For the Funeral time and location details\, please view the no
 tice on the My Tributes site. (https://www.corowafreepress.com.au/tributes
 /notice/funeral-notices/pyne-richard-john-percival-percy/6354771/)
END:VEVENT
END:VCALENDAR
