BEGIN:VCALENDAR
BEGIN:VEVENT
SUMMARY:Funeral notice for MANN\, Moira Edan
DTSTART:20260427T000000
DTEND:20260428T000000
DTSTAMP:20260424T052946Z
UID:6354778
DESCRIPTION:For the Funeral time and location details\, please view the no
 tice on the My Tributes site. (https://www.corowafreepress.com.au/tributes
 /notice/funeral-notices/mann-moira-edan/6354778/)
END:VEVENT
END:VCALENDAR
