BEGIN:VCALENDAR
BEGIN:VEVENT
SUMMARY:Funeral notice for SMITH\, Daniel Patrick
DTSTART:20260429T000000
DTEND:20260430T000000
DTSTAMP:20260423T064256Z
UID:6354819
DESCRIPTION:For the Funeral time and location details\, please view the no
 tice on the My Tributes site. (https://www.corowafreepress.com.au/tributes
 /notice/funeral-notices/smith-daniel-patrick/6354819/)
END:VEVENT
END:VCALENDAR
