BEGIN:VCALENDAR
BEGIN:VEVENT
SUMMARY:Funeral notice for ECKERMANN\, Margaret Shirley
DTSTART:20260429T000000
DTEND:20260430T000000
DTSTAMP:20260421T112414Z
UID:6354846
DESCRIPTION:For the Funeral time and location details\, please view the no
 tice on the My Tributes site. (https://www.corowafreepress.com.au/tributes
 /notice/funeral-notices/eckermann-margaret-shirley/6354846/)
END:VEVENT
END:VCALENDAR
