BEGIN:VCALENDAR
BEGIN:VEVENT
SUMMARY:Funeral notice for RANSOM\, Sister Teresa Kennedy (Tess)
DTSTART:20260427T000000
DTEND:20260428T000000
DTSTAMP:20260419T221919Z
UID:6354885
DESCRIPTION:For the Funeral time and location details\, please view the no
 tice on the My Tributes site. (https://www.corowafreepress.com.au/tributes
 /notice/funeral-notices/ransom-sister-teresa-kennedy-tess/6354885/)
END:VEVENT
END:VCALENDAR
