BEGIN:VCALENDAR
BEGIN:VEVENT
SUMMARY:Funeral notice for HENRY\, Janet Mary
DTSTART:20260424T000000
DTEND:20260425T000000
DTSTAMP:20260423T193430Z
UID:6354897
DESCRIPTION:For the Funeral time and location details\, please view the no
 tice on the My Tributes site. (https://www.corowafreepress.com.au/tributes
 /notice/funeral-notices/henry-janet-mary/6354897/)
END:VEVENT
END:VCALENDAR
