BEGIN:VCALENDAR
BEGIN:VEVENT
SUMMARY:Funeral notice for MOSEY\, Valerie Joy
DTSTART:20260427T000000
DTEND:20260428T000000
DTSTAMP:20260424T085620Z
UID:6355019
DESCRIPTION:For the Funeral time and location details\, please view the no
 tice on the My Tributes site. (https://www.corowafreepress.com.au/tributes
 /notice/funeral-notices/mosey-valerie-joy/6355019/)
END:VEVENT
END:VCALENDAR
