BEGIN:VCALENDAR
BEGIN:VEVENT
SUMMARY:Funeral notice for PASCOE\, Joan Lynette
DTSTART:20260427T000000
DTEND:20260428T000000
DTSTAMP:20260425T014838Z
UID:6355039
DESCRIPTION:For the Funeral time and location details\, please view the no
 tice on the My Tributes site. (https://www.corowafreepress.com.au/tributes
 /notice/funeral-notices/pascoe-joan-lynette/6355039/)
END:VEVENT
END:VCALENDAR
