BEGIN:VCALENDAR
BEGIN:VEVENT
SUMMARY:Funeral notice for KROSCH\, Keith Eric
DTSTART:20260427T000000
DTEND:20260428T000000
DTSTAMP:20260426T030524Z
UID:6355103
DESCRIPTION:For the Funeral time and location details\, please view the no
 tice on the My Tributes site. (https://www.corowafreepress.com.au/tributes
 /notice/funeral-notices/krosch-keith-eric/6355103/)
END:VEVENT
END:VCALENDAR
