BEGIN:VCALENDAR
BEGIN:VEVENT
SUMMARY:Funeral notice for KELLY\, Pamela Rosemary Lee
DTSTART:20260427T000000
DTEND:20260428T000000
DTSTAMP:20260424T202032Z
UID:6355140
DESCRIPTION:For the Funeral time and location details\, please view the no
 tice on the My Tributes site. (https://www.corowafreepress.com.au/tributes
 /notice/funeral-notices/kelly-pamela-rosemary-lee/6355140/)
END:VEVENT
END:VCALENDAR
