BEGIN:VCALENDAR
BEGIN:VEVENT
SUMMARY:Funeral notice for RIZONICO\, Jillanna
DTSTART:20260424T000000
DTEND:20260425T000000
DTSTAMP:20260424T000632Z
UID:6355196
DESCRIPTION:For the Funeral time and location details\, please view the no
 tice on the My Tributes site. (https://www.corowafreepress.com.au/tributes
 /notice/funeral-notices/rizonico-jillanna/6355196/)
END:VEVENT
END:VCALENDAR
