BEGIN:VCALENDAR
BEGIN:VEVENT
SUMMARY:Funeral notice for CARLINO\, Giuseppe
DTSTART:20260424T000000
DTEND:20260425T000000
DTSTAMP:20260424T000701Z
UID:6355256
DESCRIPTION:For the Funeral time and location details\, please view the no
 tice on the My Tributes site. (https://www.corowafreepress.com.au/tributes
 /notice/funeral-notices/carlino-giuseppe/6355256/)
END:VEVENT
END:VCALENDAR
