BEGIN:VCALENDAR
BEGIN:VEVENT
SUMMARY:Funeral notice for PASPALIS\, Maria
DTSTART:20260424T000000
DTEND:20260425T000000
DTSTAMP:20260426T063215Z
UID:6355307
DESCRIPTION:For the Funeral time and location details\, please view the no
 tice on the My Tributes site. (https://www.corowafreepress.com.au/tributes
 /notice/funeral-notices/paspalis-maria/6355307/)
END:VEVENT
END:VCALENDAR
