BEGIN:VCALENDAR
BEGIN:VEVENT
SUMMARY:Funeral notice for DOROSZ\, (Zbig) Zbigniew Stanislaw
DTSTART:20260430T000000
DTEND:20260501T000000
DTSTAMP:20260426T134920Z
UID:6355369
DESCRIPTION:For the Funeral time and location details\, please view the no
 tice on the My Tributes site. (https://www.corowafreepress.com.au/tributes
 /notice/funeral-notices/dorosz-zbig-zbigniew-stanislaw/6355369/)
END:VEVENT
END:VCALENDAR
