BEGIN:VCALENDAR
BEGIN:VEVENT
SUMMARY:Funeral notice for WILSON\, David John
DTSTART:20260427T000000
DTEND:20260428T000000
DTSTAMP:20260426T012820Z
UID:6355477
DESCRIPTION:For the Funeral time and location details\, please view the no
 tice on the My Tributes site. (https://www.corowafreepress.com.au/tributes
 /notice/funeral-notices/wilson-david-john/6355477/)
END:VEVENT
END:VCALENDAR
