BEGIN:VCALENDAR
BEGIN:VEVENT
SUMMARY:Funeral notice for MURRAY NEE MACFARLANE\, Mary Gwendoline
DTSTART:20260429T000000
DTEND:20260430T000000
DTSTAMP:20260425T192316Z
UID:6355483
DESCRIPTION:For the Funeral time and location details\, please view the no
 tice on the My Tributes site. (https://www.corowafreepress.com.au/tributes
 /notice/funeral-notices/murray-nee-macfarlane-mary-gwendoline/6355483/)
END:VEVENT
END:VCALENDAR
