BEGIN:VCALENDAR
BEGIN:VEVENT
SUMMARY:Funeral notice for STACEY\, Christopher David
DTSTART:20260429T000000
DTEND:20260430T000000
DTSTAMP:20260426T043648Z
UID:6355574
DESCRIPTION:For the Funeral time and location details\, please view the no
 tice on the My Tributes site. (https://www.corowafreepress.com.au/tributes
 /notice/funeral-notices/stacey-christopher-david/6355574/)
END:VEVENT
END:VCALENDAR
